Workbook
Name BienesDuraderos: Tabla7[Bienes Duraderos]
Name Fuente: Tabla9[Fuente]
Name Materialesysuministros: Tabla6[Materiales y suministros]
Name Partidas: Tabla3[Partidas]
Name Remuneraciones: Tabla4[Remuneraciones]
Name Servicios: Tabla5[Servicios]
Name Unidades: Tabla10[Unidades]

Sheet Cálculo de recursos

Sheet Presupuesto
B1: Promotora Costarricense de Innovación e Investigación
B2: Convocatoria de Propyme Clústers 2022
B7: (Nombre de la Pyme)
B8: Presupuesto propuesto para el proyecto:
A10: Objetivo | B10: Actividad | C10: Partida | D10: Rubro | E10: Descripción | F10: Cantidad | G10: Unidad | H10: ¢/unidad | I10: Fuente | J10: Presupuesto | K10: Ejecutado | L10: Disponible
B11: Actividad1 | J11: =+F11*H11 -> 0 | L11: =J11-K11 -> 0
B12: Actividad2 | J12: =+F12*H12 -> 0 | L12: =J12-K12 -> 0
B13: Actividad3 | J13: =+F13*H13 -> 0 | L13: =J13-K13 -> 0
B14: Actividad4 | J14: =+F14*H14 -> 0 | L14: =J14-K14 -> 0
B15: Actividad5 | J15: =+F15*H15 -> 0 | L15: =J15-K15 -> 0
B16: Actividad6 | J16: =+F16*H16 -> 0 | L16: =J16-K16 -> 0
B17: Actividad7 | J17: =+F17*H17 -> 0 | L17: =J17-K17 -> 0
B18: Actividad8 | J18: =+F18*H18 -> 0 | L18: =J18-K18 -> 0
B19: Actividad9 | J19: =+F19*H19 -> 0 | L19: =J19-K19 -> 0
B20: Actividad10 | J20: =+F20*H20 -> 0 | L20: =J20-K20 -> 0
B21: Actividad11 | J21: =+F21*H21 -> 0 | L21: =J21-K21 -> 0
B22: Actividad12 | J22: =+F22*H22 -> 0 | L22: =J22-K22 -> 0
... B27: Inserte sobre esta fila | J27: =+F27*H27 -> 0 | L27: =J27-K27 -> 0
A28: TOTAL | J28: =SUBTOTAL(109,J11:J27) -> 0 | K28: =SUBTOTAL(109,K11:K27) -> 0 | L28: =SUBTOTAL(109,L11:L27) -> 0

Sheet Tablero
B2: Distribución por fuente de financiamiento | H2: Distribución por partidas y fuente de financiamiento | P2: Aprobado-Ejecutado-Disponible | V2: Restricciones de la convocatoria
C4: Fuente | D4: Monto | E4: % | I4: Partida | J4: Propyme | K4: =+C6 -> Contrapartida en especie | L4: =+C7 -> Contrapartida en efectivo | P4: Aprobado | Q4: Ejecutado | R4: Disponible
C5: Propyme | D5: =SUMIF(Presupuesto!$I$11:$I$27,C5,Presupuesto!$J$11:$J$27) -> 0 | E5: =+D5/$D$8 -> #DIV/0! | I5: Remuneraciones | J5: =SUMIFS(Presupuesto!$J$11:$J$27,Presupuesto!$I$11:$I$27,$J$4,Presupuesto!$C$11:$C$27,Tablero!I5) -> 0 | K5: =SUMIFS(Presupuesto!$J$11:$J$27,Presupuesto!$I$11:$I$27,K$4,Presupuesto!$C$11:$C$27,Tablero!I5) -> 0 | L5: =SUMIFS(Presupuesto!$J$11:$J$27,Presupuesto!$I$11:$I$27,L$4,Presupuesto!$C$11:$C$27,Tablero!I5) -> 0 | P5: =Presupuesto!J28 -> 0 | Q5: =Presupuesto!K28 -> 0 | R5: =Presupuesto!L28 -> 0 | V5: Aporte de contrapartida | W5: 0.2 | X5: =IF(E10>=20%,"Cumple","No cumple") -> #DIV/0!
C6: Contrapartida en especie | D6: =SUMIF(Presupuesto!$I$11:$I$27,C6,Presupuesto!$J$11:$J$27) -> 0 | E6: =+D6/$D$8 -> #DIV/0! | I6: Servicios | J6: =SUMIFS(Presupuesto!$J$11:$J$27,Presupuesto!$I$11:$I$27,$J$4,Presupuesto!$C$11:$C$27,Tablero!I6) -> 0 | K6: =SUMIFS(Presupuesto!$J$11:$J$27,Presupuesto!$I$11:$I$27,K$4,Presupuesto!$C$11:$C$27,Tablero!I6) -> 0 | L6: =SUMIFS(Presupuesto!$J$11:$J$27,Presupuesto!$I$11:$I$27,L$4,Presupuesto!$C$11:$C$27,Tablero!I6) -> 0 | V6: Máximo financiamiento | W6: =D5 -> 0 | X6: =IF(D5<=20000000,"Cumple","No cumple") -> Cumple
C7: Contrapartida en efectivo | D7: =SUMIF(Presupuesto!$I$11:$I$27,C7,Presupuesto!$J$11:$J$27) -> 0 | E7: =+D7/$D$8 -> #DIV/0! | I7: MaterialesySuministros | J7: =SUMIFS(Presupuesto!$J$11:$J$27,Presupuesto!$I$11:$I$27,$J$4,Presupuesto!$C$11:$C$27,Tablero!I7) -> 0 | K7: =SUMIFS(Presupuesto!$J$11:$J$27,Presupuesto!$I$11:$I$27,K$4,Presupuesto!$C$11:$C$27,Tablero!I7) -> 0 | L7: =SUMIFS(Presupuesto!$J$11:$J$27,Presupuesto!$I$11:$I$27,L$4,Presupuesto!$C$11:$C$27,Tablero!I7) -> 0 | V7: Formulación gestor | W7: =SUMIFS(Presupuesto!J11:J27,Presupuesto!D11:D27,'Listas desplegables'!H13,Presupuesto!I11:I27,J4) -> 0 | X7: =IF(W7<700000,"Cumple","NO CUMPLE") -> Cumple
C8: Total | D8: =SUM(D5:D7) -> 0 | E8: =SUM(E5:E7) -> #DIV/0! | I8: BienesDuraderos | J8: =SUMIFS(Presupuesto!$J$11:$J$27,Presupuesto!$I$11:$I$27,$J$4,Presupuesto!$C$11:$C$27,Tablero!I8) -> 0 | K8: =SUMIFS(Presupuesto!$J$11:$J$27,Presupuesto!$I$11:$I$27,K$4,Presupuesto!$C$11:$C$27,Tablero!I8) -> 0 | L8: =SUMIFS(Presupuesto!$J$11:$J$27,Presupuesto!$I$11:$I$27,L$4,Presupuesto!$C$11:$C$27,Tablero!I8) -> 0 | V8: Contrapartida en especie | W8: =+D6/D10 -> #DIV/0! | X8: =IF(W8<=50%,"Cumple","NO CUMPLE") -> #DIV/0!
I9: Total | J9: =SUM(J5:J8) -> 0 | K9: =SUM(K5:K8) -> 0 | L9: =SUM(L5:L8) -> 0
C10: Total contrapartida | D10: =+D6+D7 -> 0 | E10: =+D10/D8 -> #DIV/0!

Sheet Tabla dinámica

Sheet Listas desplegables
B5: Fuente | D5: Partidas | F5: Remuneraciones | H5: Servicios | J5: Materiales y suministros | L5: Bienes Duraderos | N5: Unidades
B6: Propyme | D6: Remuneraciones | F6: Salarios | H6: Publicidad | J6: Materia prima | L6: Equipo y maquinaria | N6: Hrs
B7: Contrapartida en especie | D7: Servicios | H7: Aduaneros | J7: Consumibles de laboratorio | L7: Patentes | N7: Unidad
B8: Contrapartida en efectivo | D8: MaterialesySuministros | H8: Jurídicos | J8: Otro | L8: Marcas registradas | N8: Kg
D9: BienesDuraderos | H9: Ingeniería | L9: Licencias tecnológicas | N9: Mes
H10: Desarrollo de sistemas informáticos | L10: Franquicias | N10: Día
H11: Viáticos dentro y fuera del país | L11: Derechos de autor | N11: Litro
H12: Transporte dentro y fuera del país | L12: Sistema informático
H13: Gestor de innovación | L13: Otro
H14: Seguros
H15: Capacitación
H16: Inscripción a evento
H17: Asesoría especializada
H18: Servicios de laboratorio, normalización, certificación y acreditación
H19: Administración y gestión del proyecto
H20: Unidad de implementación externa
H21: Arrendamiento de licencias tecnológicas
H22: Servicios profesionales de los socios accionistas
H23: Otro
D26: Restricciones | F26: Criterio
D27: Aporte de contrapartida | F27: >20% monto total
D28: Formulación-Gestor | F28: ¢700.000
F29: <50% del total de la contrapartida
D30: contrapartida en especie
