Workbook

Sheet Flujo de caja proyectado 5 años
A1: EMPRESA XXXX
A2: FLUJO DE CAJA PROYECTADO DEL PROYECTO
A3: PERIODOS : AÑOS DEL 1 AL 5
A4: EXPRESADO EN COLONES
A7: Inversión
A9: Monto solicitado a Propyme | B9: 20000000
A10: Monto aportado de contrapartida | B10: 5000000
A11: Total Inversión | B11: =SUM(B9:B10) -> 25000000
A15: Flujo de caja | C15: Año | D15: Año | E15: Año | F15: Año | G15: Año
C16: 1* | D16: 2* | E16: 3 | F16: 4 | G16: 5
A19: Ventas
A20: Precio Unitario Producto/Servicio (USD/unidad) | C20: 0 | D20: 0 | E20: 0 | F20: 0 | G20: 0
A21: Cantidad de ventas de Producto/Servicio (Unidades) | C21: 0 | D21: 0 | E21: 0 | F21: 0 | G21: 0
A25: Ingresos
A26: Ingresos por ventas de productos/servicios | B26: 0 | C26: =C21*C20 -> 0 | D26: =D20*D21 -> 0 | E26: =E20*E21 -> 0 | F26: =F20*F21 -> 0 | G26: =G20*G21 -> 0
A27: Ingresos totales | C27: =SUM(C26:C26) -> 0 | D27: =SUM(D26:D26) -> 0 | E27: =SUM(E26:E26) -> 0 | F27: =SUM(F26:F26) -> 0 | G27: =SUM(G26:G26) -> 0
A31: Gastos
A32: Salario del Personal | C32: 0 | D32: 0 | E32: 0 | F32: 0 | G32: 0
A33: Gastos de gestión en propiedad intelectual | C33: 0 | D33: 0 | E33: 0 | F33: 0 | G33: 0
A34: Formulación y presentación de la propuesta | C34: 0 | D34: 0 | E34: 0 | F34: 0 | G34: 0
A35: Gestión y administración del proyecto | C35: 0 | D35: 0 | E35: 0 | F35: 0 | G35: 0
A36: Capacitación y entrenamiento de recursos humanos | C36: 0 | D36: 0 | E36: 0 | F36: 0 | G36: 0
A37: Servicios profesionales | C37: 0 | D37: 0 | E37: 0 | F37: 0 | G37: 0
A38: Insumos y materiales necesarios para la construcción de prototipos y de plantas piloto | C38: 0 | D38: 0 | E38: 0 | F38: 0 | G38: 0
A39: Maquinaria y/o equipo específico para el proyecto | C39: 0 | D39: 0 | E39: 0 | F39: 0 | G39: 0
A40: Adquisición o arrendamiento de licencias tecnológicas | C40: 0 | D40: 0 | E40: 0 | F40: 0 | G40: 0
A41: Otros rubros (agregar según corresponda):
A42: a | C42: 0 | D42: 0 | E42: 0 | F42: 0 | G42: 0
A43: b | C43: 0 | D43: 0 | E43: 0 | F43: 0 | G43: 0
A44: c | C44: 0 | D44: 0 | E44: 0 | F44: 0 | G44: 0
A45: d | C45: 0 | D45: 0 | E45: 0 | F45: 0 | G45: 0
A46: e | C46: 0 | D46: 0 | E46: 0 | F46: 0 | G46: 0
A47: f | C47: 0 | D47: 0 | E47: 0 | F47: 0 | G47: 0
C48: 0 | D48: 0 | E48: 0 | F48: 0 | G48: 0
A49: Total Gastos | C49: =SUM(C32:C48) -> 0 | D49: =SUM(D32:D48) -> 0 | E49: =SUM(E32:E48) -> 0 | F49: =SUM(F32:F48) -> 0 | G49: =SUM(G32:G48) -> 0
A52: Flujo de caja antes de impuestos | C52: =C27-C49 -> 0 | D52: =D27-D49 -> 0 | E52: =E27-E49 -> 0 | F52: =F27-F49 -> 0 | G52: =G27-G49 -> 0
A55: Impuesto sobre la Renta | C55: 0 | D55: 0 | E55: =E52*0.15 -> 0 | F55: =F52*0.15 -> 0 | G55: =G52*0.15 -> 0
A58: Flujo de caja neto | C58: =C52-C55 -> 0 | D58: =D52-D55 -> 0 | E58: =E52-E55 -> 0 | F58: =F52-F55 -> 0 | G58: =G52-G55 -> 0
A61: Efectivo disponible | C61: =C58+B11 -> 25000000 | D61: =C61+D58 -> 25000000 | E61: =D61+E58 -> 25000000 | F61: =E61+F58 -> 25000000 | G61: =F61+G58 -> 25000000
A63: * Nota orientativa: Tener presente que los gastos del proyecto, es decir Monto Solicitado y Monto de Contrapartida, deben registrarse en el año o años en que corresponda la ejecución del proyecto. Se espera que dichos gastos se planifiquen como máximo en los años 1 y 2.
...

Sheet Calculo del TIR
B1: CÁLCULO FLUJO DE CAJA TIR
B3: Se calcula automáticamente con la anterior hoja
C5: Flujo de Caja | L5: TIR
L6: =IF(OR(E9="",D9=""),0,IRR($D$9:I9)) -> #NUM!
C7: Flujo de caja (neto anual) | E7: AÑOS
D8: 0 | E8: 1 | F8: 2 | G8: 3 | H8: 4 | I8: 5
B9: Inicial | C9: Inicial | D9: =-'Flujo de caja proyectado 5 años'!B11 -> -25000000 | E9: ='Flujo de caja proyectado 5 años'!C58 -> 0 | F9: ='Flujo de caja proyectado 5 años'!D58 -> 0 | G9: ='Flujo de caja proyectado 5 años'!E58 -> 0 | H9: ='Flujo de caja proyectado 5 años'!F58 -> 0 | I9: ='Flujo de caja proyectado 5 años'!G58 -> 0
