Workbook
Name AREA: 'Egresos por CE'!$A$2:$J$327
Name AREA: 'Tab, Equivalencias CE y OBG'!$A$2:$J$327
Name COLABORADOR: [1]Hoja2!$B$26:$B$68
Name COLABORADOR: [1]Hoja2!$B$26:$B$68
Name COLABORADOR: [1]Hoja2!$B$26:$B$68
Name FUENTE: [1]Hoja2!$C$4:$C$16
Name FUENTE: [1]Hoja2!$C$4:$C$16
Name FUENTE: [1]Hoja2!$C$4:$C$16
Name funcionarios: #REF!
Name INDEFINIDO: [2]Puestos!$A$3:$H$24
Name NOMBREMETA: #REF!
Name NOMBREMETA: #REF!
Name NOMBREMETA: #REF!
Name NOMBREMETA: #REF!
Name PARTIDAS: [1]partidas!$B$3:$B$13
Name PARTIDAS: [1]partidas!$B$3:$B$13
Name PARTIDAS: [1]partidas!$B$3:$B$13
Name proyecto: [3]Hoja2!$B$4:$B$23
Name proyecto: [4]Hoja2!$B$4:$B$23
Name puestos: [5]Puestos!$A$3:$F$22
Name UNIDAD: [1]Hoja2!$B$4:$B$23
Name UNIDAD: [1]Hoja2!$B$4:$B$23
Name UNIDAD: [1]Hoja2!$B$4:$B$23
Name Unidades: #REF!
Name VPTOACT: [5]Puestos!$G$24
Name vptoprop: [5]Puestos!$H$25

Sheet calculos
B4: Viáticos nacional | G4: Transporte exterior
B6: Lugar | C6: Monto individual | D6: total | G6: Tiquete | H6: $450
B7: Monteverde | C7: 44200 | D7: =+C7*3 -> 132600 | G7: Tipo cambio BCCR | H7: ¢507.47
B8: Limón | D8: 150000
B9: DPII | D9: 100000 | G9: Monto colones | H9: =450*507.47 -> 228361.5
B10: total requerido | D10: =SUM(D7:D9) -> 382600
G11: Monto redondeado | H11: 230000
H12: =+H11-H9 -> 1638.5
B13: Saldo disponible
B14: Adelanto viáticos | D14: 82800
B15: Saldo reserva adelanto | D15: 16200
B16: Saldo subpartida | D16: 104600
B17: Total disponible | D17: =SUM(D14:D16) -> 203600
G18: Solicitado en comisiones SICOP | H18: 800000
G19: Rebajo para viáticos y tiquete | H19: =230000+179000 -> 409000
B20: Faltate Modificación | D20: =+D17-D10 -> -179000 | G20: Saldo | H20: =+H18-H19 -> 391000
G21: más:
G22: PE 02-2025 reintegro SICOP | H22: 697197.85
G24: Total SICOP | H24: =+H22+H20 -> 1088197.9
G26: Diferencia total menos lo solicitado, se suma a la subpartida 5.99.03 TICS | H26: =+H24-H18 -> 288197.85

Sheet Detalle Rebajos
A1: PROMOTORA COSTARRICENSE DE INNOVACIÓN E INVESTIGACIÓN
A2: MODIFICACIÓN PRESUPUESTARIA 05-2025
A3: LEY 9971 ( X ) LEY 7169 ( ) LEY 8262 ( ) LEY 9028 ( ) LEY 7099 ( ) INDER ( )
A4: DETALLE DE REBAJOS
A6: Código | B6: Sub partida presupuestaria | C6: Saldo actual disponible | D6: Monto solicitado rebajar | E6: Saldo final | F6: Justificación del movimiento | G6: Meta Sistema administrativo | H6: Meta actividad (POI) | I6: Programa | J6: Fuente de financiamiento | K6: Centro de costo
A7: 0.01.01 | B7: Sueldos para cargos fijos | C7: 62604352 | D7: 729951.64 | E7: =+'Detalle Rebajos'!$C7-'Detalle Rebajos'!$D7 -> 61874400 | F7: Se traslada parte de los recursos disponibles asignados al pago de salarios y cargas sociales de los funcionarios del programa 1, considerando que la ejecución de las subpartidas de cargas sociales están directamente vinculadas con los montos efectivamente pagados en concepto de salarios. En consecuencia, el porcentaje de ejecución de cargas sociales depende de la ejecución salarial. Según la proyección realizada para el cierre del período 2025 por la Unidad Administrativa (UA), se prevé que quedarán recursos sin ejecutar en la subpartida de salarios, en razón del ahorro por la presentación de incapacidades que se han presentado durante el periodo, lo que a su vez generará un remanente en cargas sociales. Con base en lo anterior, los recursos rebajados se trasladan a otras subpartidas con el fin de atender necesidades de carácter ineludible. Cabe destacar que esta acción no contraviene las disposiciones establecidas en las normas de ejecución del Presupuesto Ordinario y Extraordinario de la República para el ejercicio económico 2025, aplicables a la Promotora Costarricense de Innovación e Investigación. | G7: DPII0101 | H7: PI.01.01.01 | I7: 1 | J7: 001 Transferencias corrientes Ley 9971 | K7: 01-02
A8: 0.03.01 | B8: Retribución por años servidos | C8: 9373393.2 | D8: 99647.22 | E8: =+'Detalle Rebajos'!$C8-'Detalle Rebajos'!$D8 -> 9273746
A9: 0.03.02 | B9: Restricción al ejercicio liberal de la profesión | C9: 11201010 | D9: 24169.72 | E9: =+'Detalle Rebajos'!$C9-'Detalle Rebajos'!$D9 -> 11176840
A10: 0.03.99 | B10: Otros incentivos salariales | C10: 2940305.9 | D10: 3595.87 | E10: =+'Detalle Rebajos'!$C10-'Detalle Rebajos'!$D10 -> 2936710
A11: 0.04.01 | B11: Cuota patronal C.C.S.S. | C11: 9915201.7 | D11: =2000000+28494.8 -> 2028494.8 | E11: =+'Detalle Rebajos'!$C11-'Detalle Rebajos'!$D11 -> 7886706.9
A12: 0.04.03 | B12: Cuota INA | C12: 1607870.4 | D12: 328945.01 | E12: =+'Detalle Rebajos'!$C12-'Detalle Rebajos'!$D12 -> 1278925.4
A13: 0.04.04 | B13: Cuota Asignaciones familiares | C13: 5359568.3 | D13: 1096483.5 | E13: =+'Detalle Rebajos'!$C13-'Detalle Rebajos'!$D13 -> 4263084.8
A14: 0.04.05 | B14: Cuota Banco Popular | C14: 535956.76 | D14: 109648.28 | E14: =+'Detalle Rebajos'!$C14-'Detalle Rebajos'!$D14 -> 426308.48
A15: 0.05.01 | B15: Contribución patronal al Seguro de Pensiones de la C.C.S.S. | C15: 5809772.3 | D15: 1188588.4 | E15: =+'Detalle Rebajos'!$C15-'Detalle Rebajos'!$D15 -> 4621183.9
A16: 0.05.02 | B16: Aporte Patronal R.P.C. LEY 7983 | C16: 3215740.9 | D16: 657890.03 | E16: =+'Detalle Rebajos'!$C16-'Detalle Rebajos'!$D16 -> 2557850.9
A17: 0.05.03 | B17: Aporte Patronal F.C.L. LEY 7983 | C17: 1607870.4 | D17: 328945.01 | E17: =+'Detalle Rebajos'!$C17-'Detalle Rebajos'!$D17 -> 1278925.4
A18: 0.05.05 | B18: Contribución Patronal a fondos administrados por empresas privadas | C18: 6229695.9 | D18: 1685247.5 | E18: =+'Detalle Rebajos'!$C18-'Detalle Rebajos'!$D18 -> 4544448.4
A19: 0.01.01 | B19: Sueldos para cargos fijos | C19: 1.048973e+08 | D19: 4219435.4 | E19: =+'Detalle Rebajos'!$C19-'Detalle Rebajos'!$D19 -> 100677862 | F19: Se traslada parte de los recursos disponibles asignados al pago de salarios y cargas sociales de los funcionarios del programa 2, considerando que la ejecución de las subpartidas de cargas sociales están directamente vinculadas con los montos efectivamente pagados en concepto de salarios. En consecuencia, el porcentaje de ejecución de cargas sociales depende de la ejecución salarial. Según la proyección realizada para el cierre del período 2025 por la Unidad Administrativa (UA), se prevé que quedarán recursos sin ejecutar en la subpartida de salarios, en razón del ahorro por la presentación de incapacidades que se han presentado durante el periodo así como el ajuste en el cálculo del salario de la Gerente General a la cual se le proyectan dos meses con salario global y dos con salario único, esto considerando que a la fecha no se ha recibido el manual de puestos aprobado por MIDEPLAN, lo que a su vez generará un remanente en cargas sociales. Con base en lo anterior, los recursos rebajados se trasladan a otras subpartidas con el fin de atender necesidades de carácter ineludible. Cabe destacar que esta acción no contraviene las disposiciones establecidas en las normas de ejecución del Presupuesto Ordinario y Extraordinario de la República para el ejercicio económico 2025, aplicables a la Promotora Costarricense de Innovación e Investigación. | G19: DAF0101 | H19: PI.02.01.02 | I19: 2 | J19: 001 Transferencias corrientes Ley 9971 | K19: 02-06
A20: 0.03.03 | B20: Décimo tercer mes | C20: 32636018 | D20: 619986.23 | E20: =+'Detalle Rebajos'!$C20-'Detalle Rebajos'!$D20 -> 32016032
A21: 0.03.99 | B21: Otros incentivos salariales | C21: 4098152.5 | D21: 168523.7 | E21: =+'Detalle Rebajos'!$C21-'Detalle Rebajos'!$D21 -> 3929628.8
A22: 0.04.01 | B22: Cuota patronal C.C.S.S. | C22: 14977897 | D22: 2670306.2 | E22: =+'Detalle Rebajos'!$C22-'Detalle Rebajos'!$D22 -> 12307591
A23: 0.04.03 | B23: Cuota INA | C23: 2428848 | D23: 433022.44 | E23: =+'Detalle Rebajos'!$C23-'Detalle Rebajos'!$D23 -> 1995825.6
A24: 0.04.04 | B24: Cuota Asignaciones familiares | C24: 8096159.7 | D24: 1443407.8 | E24: =+'Detalle Rebajos'!$C24-'Detalle Rebajos'!$D24 -> 6652751.9
A25: 0.04.05 | B25: Cuota Banco Popular | C25: 8096159.7 | D25: 144340.85 | E25: =+'Detalle Rebajos'!$C25-'Detalle Rebajos'!$D25 -> 7951818.8
A26: 0.05.01 | B26: Contribución patronal al Seguro de Pensiones de la C.C.S.S. | C26: 8776237.7 | D26: 1564654.6 | E26: =+'Detalle Rebajos'!$C26-'Detalle Rebajos'!$D26 -> 7211583.1
A27: 0.05.02 | B27: Aporte Patronal R.P.C. LEY 7983 | C27: 4857695.7 | D27: 866044.55 | E27: =+'Detalle Rebajos'!$C27-'Detalle Rebajos'!$D27 -> 3991651.1
A28: 0.05.03 | B28: Aporte Patronal F.C.L. LEY 7983 | C28: 2428848 | D28: 433022.44 | E28: =+'Detalle Rebajos'!$C28-'Detalle Rebajos'!$D28 -> 1995825.6
A29: 0.05.05 | B29: Contribución Patronal a fondos administrados por empresas privadas | C29: 8541102.6 | D29: 1449269.1 | E29: =+'Detalle Rebajos'!$C29-'Detalle Rebajos'!$D29 -> 7091833.5
A30: 1.03.03 | B30: Impresión, encuadernación y otros | C30: 88765 | D30: 69555 | E30: =+'Detalle Rebajos'!$C30-'Detalle Rebajos'!$D30 -> 19210 | F30: Se traslada parte de los recursos disponibles asignado para la impresión y empaste de los Libros Contables para la compra de timbres del Colegio de Contadores Privados, esto para ser utilizados en los estados financieros de la PCII, según lo indicado en Webinar impartido por dicho Colegio, la falta de timbres en los EEFF puede ser causa de que los mismos no tenga validez, a menos que, se tenga una exoneración expresa en la ley de creación de la institución para poder omitir este requisito. Los ¢19,210.00 quedaran en la misma subpartida presupuestaria para dos empastes que se proyectan realizar entre setiembre y octubre del presente año. Cabe destacar que esta reprogramación no contraviene las disposiciones establecidas en las normas de ejecución del Presupuesto Ordinario y Extraordinario de la República para el ejercicio económico 2025, aplicables a la Promotora Costarricense de Innovación e Investigación. | G30: UF0101 | H30: PI.02.01.02 | I30: 2 | J30: 001 Transferencias corrientes Ley 9971 | K30: 02-07
A31: 1.08.01 | B31: Mantenimiento de edificio | C31: 950666.5 | D31: 635298.17 | E31: =+'Detalle Rebajos'!$C31-'Detalle Rebajos'!$D31 -> 315368.33 | F31: Se traslada parte de los recursos para la atención de emergencias en el edificio con cargo a este rubro, considerando que ya se atendió una filtración de agua y, de momento, no existe otra urgencia por resolver. Asimismo, en cumplimiento de las instrucciones giradas por la Gerencia, se procede con el traslado de los recursos a fin de ejecutar la totalidad del presupuesto disponible y atender otras necesidades sin recursos presupuestarios. Cabe destacar que esta reprogramación no contraviene las disposiciones establecidas en las normas de ejecución del Presupuesto Ordinario y Extraordinario de la República para el ejercicio económico 2025, aplicables a la Promotora Costarricense de Innovación e Investigación. | G31: UA0101 | H31: PI.02.01.02 | I31: 2 | J31: 001 Transferencias corrientes Ley 9971 | K31: 02-11
A32: 1.08.04 | B32: Mantenimiento y reparación de maquinaria y equipo | C32: 1004200.1 | D32: 174200.09 | E32: =+C32-D32 -> 830000.01 | F32: Se traslada parte de los recursos disponibles asignados para el mantenimiento preventivo y correctivo de la planta eléctrica y el sistema de bomba de agua. Según la proyección realizada por la Unidad Administrativa (UA), se refleja un sobrante debido a que el monto real reservado luego de los estudios de mercado es menor al monto proyectado. Con base en lo anterior, se rebajan estos recursos y se trasladan a otras subpartidas con el fin de atender otras necesidades de carácter ineludible. No se incumple con las normas de ejecución Presupuesto ordinario y extraordinario de la República para el ejercicio económico 2025 que le son aplicables a la Promotora Costarricense de Innovación e Investigación | G32: UA0101 | H32: PI.02.01.02 | I32: 2 | J32: 001 Transferencias corrientes Ley 9971 | K32: 02-11
A33: 6.03.01 | B33: Prestaciones legales | C33: 21825.5 | D33: 21825.5 | E33: =+C33-D33 -> 0 | F33: Se traslada los recursos disponibles en la subpartida, aprobados para el pago por indemnizaciones que se generaran por renuncias, jubilaciones, finalización de nombramientos, entre otras. Conforme a la proyección al mes de diciembre de 2025 elaborada por la Unidad Administrativa (UA), en la cual se identificó un disponible considerando que ya se realizó el pago previsto a una exfuncionaria. Con base en lo anterior, se rebajan estos recursos y se trasladan a otras subpartidas. Cabe destacar que esta reprogramación no contraviene las disposiciones establecidas en las normas de ejecución del Presupuesto Ordinario y Extraordinario de la República para el ejercicio económico 2025, aplicables a la Promotora Costarricense de Innovación e Investigación. | G33: UA0102 | H33: PI.02.01.01 | I33: 1 | J33: 001 Transferencias corrientes Ley 9971 | K33: 01-13
A34: 6.03.01 | B34: Prestaciones legales | C34: 160000 | D34: 160000 | E34: =+C34-D34 -> 0 | F34: Se traslada los recursos disponibles en la subpartida, aprobados para el pago por indemnizaciones que se generaran por renuncias, jubilaciones, finalización de nombramientos, entre otras. Conforme a la proyección al mes de diciembre de 2025 elaborada por la Unidad Administrativa (UA), en la cual se identificó un disponible considerando que no se tiene previsto el pago por este concepto a exfuncionarios. Con base en lo anterior, se rebajan estos recursos y se trasladan a otras subpartidas. Cabe destacar que esta reprogramación no contraviene las disposiciones establecidas en las normas de ejecución del Presupuesto Ordinario y Extraordinario de la República para el ejercicio económico 2025, aplicables a la Promotora Costarricense de Innovación e Investigación. | G34: UA0101 | H34: PI.02.01.02 | I34: 2 | J34: 001 Transferencias corrientes Ley 9971 | K34: 02-11
A35: 6.03.99 | B35: Otras prestaciones | C35: 846265.49 | D35: =846265.49 -> 846265.49 | E35: =+C35-D35 -> 0 | F35: Se traslada los recursos disponibles en la subpartida, para cubrir eventuales pagos que se deban realizar por concepto de subsidios por incapacidades de la CCSS y del INS. Lo anterior considerando luego de que la Unidad Administrativa realizó una proyección para terminar el año 2025 y se observa que los recursos disponible no se estarán ejecutando. Con base en lo anterior, se rebajan estos recursos y se trasladan a otras subpartidas. Cabe destacar que esta reprogramación no contraviene las disposiciones establecidas en las normas de ejecución del Presupuesto Ordinario y Extraordinario de la República para el ejercicio económico 2025, aplicables a la Promotora Costarricense de Innovación e Investigación. | G35: UA0102 | H35: PI.02.01.01 | I35: 1 | J35: 001 Transferencias corrientes Ley 9971 | K35: 01-13
A36: Total | D36: =SUBTOTAL(109,'Detalle Rebajos'!$D$7:$D$35) -> 24200765
D39: =+D36-'Tablas Rebajos OBG'!C203 -> 0

Sheet Detalle de Aumentos
A1: PROMOTORA COSTARRICENSE DE INNOVACIÓN E INVESTIGACIÓN
A2: MODIFICACIÓN PRESUPUESTARIA 05-2025
A3: LEY 9971 ( X ) LEY 7169 ( ) LEY 8262 ( ) LEY 9028 ( ) LEY 7099 ( ) INDER ( )
A4: DETALLE DE AUMENTOS
A6: Código | B6: Sub partida presupuestaria | C6: Saldo actual disponible | D6: Monto solicitado aumentar | E6: Saldo final | F6: Justificación del movimiento | G6: Meta Sistema administrativo | H6: Meta actividad (POI) | I6: Programa | J6: Fuente de financiamiento | K6: Centro de costos
A7: 0.02.02 | B7: Recargo de funciones | C7: 0 | D7: 29000 | E7: =+'Detalle de Aumentos'!$C7+'Detalle de Aumentos'!$D7 -> 29000 | F7: Se aumenta el presupuesto requerido para el pago de recargo de funciones del Sr. Fabián Ramírez según lo indicado en el informe técnico INFORME-PROMOTORA-DAF-UA-010-2025, que respalda el recargo de funciones asumido por el funcionario durante la incapacidad y vacaciones de la Sra. Yorleny Solano. La Gerencia General, mediante MEMORANDO-PROMOTORA-GG-050-2025, aprobó el pago del recargo, condicionado a que se ejecute en el momento en que existan recursos económicos disponibles. No se incumple con las normas de ejecución Presupuesto ordinario y extraordinario de la República para el ejercicio económico 2025 que le son aplicables a la Promotora Costarricense de Innovación e Investigación. | G7: DAF0101 | H7: PI.01.01.02 | I7: 2 | J7: 001 Transferencias corrientes Ley 9971 | K7: 02-06
A8: 0.03.01 | B8: Retribución Años Servidos (Anual.) | C8: 13221802 | D8: 113600 | E8: =+'Detalle de Aumentos'!$C8+'Detalle de Aumentos'!$D8 -> 13335402 | F8: Se aumenta el presupuesto requerido para el pago correspondiente a la Retribución por Años Servidos (Anualidades), con el fin de garantizar el pago correcto y oportuno de este beneficio laboral, el cual constituye un derecho adquirido de los funcionarios y se encuentra expresamente reconocido en la normativa vigente. El incremento obedece a los movimientos recientes en la planilla institucional, así como al cumplimiento de nuevos períodos de antigüedad por parte de funcionarios, lo que genera un ajuste en el monto inicialmente proyectado. La ampliación solicitada permitirá cubrir en su totalidad la obligación derivada de este concepto, asegurando el cumplimiento de la legislación laboral aplicable y evitando atrasos en el reconocimiento de la retribución correspondiente. No se incumple con las normas de ejecución Presupuesto ordinario y extraordinario de la República para el ejercicio económico 2025 que le son aplicables a la Promotora Costarricense de Innovación e Investigación | G8: DAF0101 | H8: PI.01.01.02 | I8: 2 | J8: 001 Transferencias corrientes Ley 9971 | K8: 02-06
A9: 0.03.02 | B9: Restricción al ejercicio liberal de la profesión | C9: 14274620 | D9: 470000 | E9: =+Tabla1[[#This Row],[Saldo actual disponible]]+Tabla1[[#This Row],[Monto solicitado aumentar]] -> 14744620 | F9: Se aumenta el presupuesto requerido para el pago por concepto de Restricción al Ejercicio Liberal de la Profesión a la funcionaria Marleny Esquivel, profesional de la Unidad Administrativa, por reclamo administrativo presentado, el cual fue resuelto según el reclamo administrativo RESOLUCIÓN-PROMOTORA-GG-019-2025, reconociendo que la funcionaria cumplía con los requisitos de licenciatura y que debió haber sido ubicada en la clase Profesional de Servicio Civil 1B y no en 1A. La resolución se fundamenta en normativa del Servicio Civil, resoluciones previas y principios de igualdad y derechos adquiridos. No se incumple con las normas de ejecución Presupuesto ordinario y extraordinario de la República para el ejercicio económico 2025 que le son aplicables a la Promotora Costarricense de Innovación e Investigación. | G9: DAF0101 | H9: PI.01.01.02 | I9: 2 | J9: 001 Transferencias corrientes Ley 9971 | K9: 02-06
A10: 0.03.03 | B10: Decimotercer mes (aguinaldo) | C10: 22402381 | D10: 292000 | E10: =+'Detalle de Aumentos'!$C10+'Detalle de Aumentos'!$D10 -> 22694381 | F10: Se aumenta el presupuesto requerido para el pago del Décimo Tercer mes (aguinaldo) al personal del Programa 1, ya que una vez realizada la proyección respectiva por parte de la Unidad Administrativa, los montos proyectados resultan insuficientes. No se incumple con las normas de ejecución Presupuesto ordinario y extraordinario de la República para el ejercicio económico 2025 que le son aplicables a la Promotora Costarricense de Innovación e Investigación. | G10: DPII0101 | H10: PI.01.01.01 | I10: 1 | J10: 001 Transferencias corrientes Ley 9971 | K10: 01-02
A11: 0.03.04 | B11: Salario escolar | C11: 173521.35 | D11: 167000 | E11: =+'Detalle de Aumentos'!$C11+'Detalle de Aumentos'!$D11 -> 340521.35 | F11: Se aumenta el presupuesto requerido para el pago de salario escolar al exfuncionario Luis David Benavides, quien había presentado un reclamo administrativo. Se dictó la resolución PROMOTORA-GG-RES-033-2024, autorizando el pago retroactivo por costo de vida 2020 al exfuncionario. El documento incluye el desglose de rubros: sueldo por cargos fijos, restricción al ejercicio profesional, tiempo extraordinario, aguinaldo y salario escolar. No se incumple con las normas de ejecución Presupuesto ordinario y extraordinario de la República para el ejercicio económico 2025 que le son aplicables a la Promotora Costarricense de Innovación e Investigación. | G11: DAF0101 | H11: PI.01.01.02 | I11: 2 | J11: 001 Transferencias corrientes Ley 9971 | K11: 02-06
A12: 1.02.02 | B12: Servicio de energía eléctrica | C12: 720450 | D12: 520000 | E12: =+'Detalle de Aumentos'!$C12+'Detalle de Aumentos'!$D12 -> 1240450 | F12: Se incrementa el saldo de la subpartida debido a que en los últimos meses se ha registrado un aumento de ¢87.000,00 por encima del promedio mensual. Considerando dicha variación, resulta necesario incrementar la subpartida con el fin de atender oportunamente los pagos previstos para el ejercicio 2025. No se incumple con las normas de ejecución Presupuesto ordinario y extraordinario de la República para el ejercicio económico 2025 que le son aplicables a la Promotora Costarricense de Innovación e Investigación. | G12: UA0101 | H12: PI.01.01.02 | I12: 2 | J12: 001 Transferencias corrientes Ley 9971 | K12: 02-06
A13: 1.02.04 | B13: Servicio de telecomunicaciones | C13: 236582.22 | D13: 280000 | E13: =+'Detalle de Aumentos'!$C13+'Detalle de Aumentos'!$D13 -> 516582.22 | F13: Se incrementa el saldo de la subpartida para atender el pago correspondiente al mes de diciembre del servicio de central telefónica, razón por la cual resulta necesario incrementar el disponible en la subpartida. No se incumple con las normas de ejecución Presupuesto ordinario y extraordinario de la República para el ejercicio económico 2025 que le son aplicables a la Promotora Costarricense de Innovación e Investigación. | G13: UA0101 | H13: PI.01.01.02 | I13: 2 | J13: 001 Transferencias corrientes Ley 9971 | K13: 02-06
A14: 1.02.04 | B14: Servicio de telecomunicaciones | C14: 170147.83 | D14: 2051973.8 | E14: =+'Detalle de Aumentos'!$C14+'Detalle de Aumentos'!$D14 -> 2222121.6 | F14: Se incrementa el saldo de la subpartida con el fin de realizar el pago anual del periodo comprendido de diciembre 2025 a diciembre 2026, a $310 dólares por mes (tipo de cambio ¢555 colones por dólar) del servicio de internet institucional. Considerando que el presupuesto 2026 está limitado y se requiere ejecutar la totalidad de recursos disponibles en el 2025. No se incumple con las normas de ejecución Presupuesto ordinario y extraordinario de la República para el ejercicio económico 2025 que le son aplicables a la Promotora Costarricense de Innovación e Investigación. | G14: TIC0101 | H14: PI.01.01.02 | I14: 2 | J14: 001 Transferencias corrientes Ley 9971 | K14: 02-10
A15: 1.03.01 | B15: Información | C15: 8798.2 | D15: =260000-8798.2 -> 251201.8 | E15: =+Tabla1[[#This Row],[Saldo actual disponible]]+Tabla1[[#This Row],[Monto solicitado aumentar]] -> 260000 | F15: Se incrementa el saldo de la subpartida para realizar la contratación para la publicación del Reglamento de Gestión del Fondo de Incentivos en el periódico oficial La Gaceta. No se incumple con las normas de ejecución Presupuesto ordinario y extraordinario de la República para el ejercicio económico 2025 que le son aplicables a la Promotora Costarricense de Innovación e Investigación. | G15: UA0101 | H15: PI.01.01.02 | I15: 2 | J15: 001 Transferencias corrientes Ley 9971 | K15: 02-06
A16: 1.03.06 | B16: Comisiones y gastos por servicios financieros y comerciales | C16: 0 | D16: =800000-D18-D19-288197.85 -> 102802.15 | E16: =+Tabla1[[#This Row],[Saldo actual disponible]]+Tabla1[[#This Row],[Monto solicitado aumentar]] -> 102802.15 | F16: Se presupuestan recursos en atención a la Resolución MH-DCoP-RES-0048-2025, mediante la cual se otorgó a la Promotora una exoneración parcial del pago por uso del SICOP únicamente para el período comprendido entre el 1.º de junio y el 31 de diciembre de 2025. A diferencia de años anteriores en los que la exoneración se aplicaba por la totalidad del año, en el presente ejercicio 2025 la institución debe asumir con recursos propios el pago correspondiente a los meses de enero a mayo. Por lo anterior, se requieren recursos para atender el pago de la tarifa del SICOP durante el primer semestre, garantizando así la continuidad de los procesos de contratación pública institucionales y el cumplimiento de las obligaciones establecidas en la Ley General de Contratación Pública y su Reglamento. Es importante indicar que el monto solicitado por la Unidad Administrativa es por la suma de ¢800.000,00 no obstante únicamente se están asignando ¢102.802,15 en esta modificación considerando que los ¢697.197,85 restantes se estarán presupuestando en esta subpartida mediante el Presupuesto Extraordinario 02-2025 el cual se estará presentando en el mes de setiembre. No se incumple con las normas de ejecución Presupuesto ordinario y extraordinario de la República para el ejercicio económico 2025 que le son aplicables a la Promotora Costarricense de Innovación e Investigación. | G16: UA0101 | H16: PI.01.01.02 | I16: 2 | J16: 001 Transferencias corrientes Ley 9971 | K16: 02-06
A17: 1.03.07 | B17: Servicios de tecnología de información | C17: 71171.44 | D17: 21825.5 | E17: =+Tabla1[[#This Row],[Saldo actual disponible]]+Tabla1[[#This Row],[Monto solicitado aumentar]] -> 92996.94 | F17: Se presupuestan recursos para la renovación de un certificado de firma digital de la funcionaria Natalia Villegas de la Unidad Administrativa. Según el visto bueno dado vía correo electrónico por la Gerente General. No se incumple con las normas de ejecución presupuesto ordinario y extraordinario dela República para el ejercicio económico 2025 que le son aplicables a la Promotora Costarricense de Innovación e Investigaciones. | G17: TIC0101 | H17: PI.01.01.02 | I17: 2 | J17: 001 Transferencias corrientes Ley 9971 | K17: 02-10
A18: 1.05.02 | B18: Viáticos dentro del país | C18: =+calculos!D17 -> 203600 | D18: =-calculos!D20 -> 179000 | E18: =+Tabla1[[#This Row],[Saldo actual disponible]]+Tabla1[[#This Row],[Monto solicitado aumentar]] -> 382600 | F18: Se aumenta el presupuesto para realizar el pago de viáticos dentro del país a los funcionarios participantes en diferentes actividades como el evento "Pongámosle a su PYME – Encuentro MEIC 2025", el cual se llevará a cabo en Monteverde y otra en la provincia de Limón a efectuarse en el mes de Octubre, según lo indicado por la profesional en Comunicación actividades que promueven los fondos de Propyme. No se incumple con las normas de ejecución presupuesto ordinario y extraordinario dela República para el ejercicio económico 2025 que le son aplicables a la Promotora Costarricense de Innovación e Investigaciones. | G18: GG0101 | H18: PI.01.01.02 | I18: 2 | J18: 001 Transferencias corrientes Ley 9971 | K18: 02-02
A19: 1.05.03 | B19: Transporte en el exterior | C19: 0 | D19: 230000 | E19: =+Tabla1[[#This Row],[Saldo actual disponible]]+Tabla1[[#This Row],[Monto solicitado aumentar]] -> 230000 | F19: Se presupuestan recursos con el fin de iniciar el proceso de compra de un tiquete aéreo para el señor Jimmy Cruz, jefe de la Unidad de Articulación e Inteligencia de Negocios de la Promotora, para participar en el "ENCUENTRO REGIONAL SOBRE INTRAEMPRENDIMIENTO PÚBLICO PARA LA TRANSFORMACIÓN INSTITUCIONAL EN AMÉRICA LATINA Y EL CARIBE". Dicho encuentro tiene como objetivo promover la cooperación intensiva orientada al fortalecimiento de capacidades institucionales mediante la transferencia, el intercambio de conocimiento y la innovación, en el marco de las acciones de articulación e inteligencia de negocios. Esta actividad es organizada por la Agencia Española de Cooperación Internacional para el Desarrollo (AECID) del Gobierno de España, y tendrá lugar en el Centro de Formación de la Cooperación Española en Cartagena de Indias (Colombia), del 14 al 17 de octubre de 2025. La organización cubre los gastos de manutención para los días indicados, sin embargo, el costo de tiquetes aéreos-traslados- deben ser cubiertos por la parte invitada. Según el estudio de mercado realizado por el Sr. Cruz, el costo del boleto con impuestos es por la suma aproximada de $450.00, por lo cual se presupuestan ¢230.000,00 al tipo de cambio de ¢507.47 por dólar publicado por el BCCR el 11/09/2025. No se incumple con las normas de ejecución presupuesto ordinario y extraordinario dela República para el ejercicio económico 2025 que le son aplicables a la Promotora Costarricense de Innovación e Investigaciones. | G19: UAIN0101 | H19: PI.01.01.01 | I19: 1 | J19: 001 Transferencias corrientes Ley 9971 | K19: 01-05
A20: 5.99.03 | B20: Bienes intangibles | C20: 0 | D20: 3000000 | E20: =+Tabla1[[#This Row],[Saldo actual disponible]]+Tabla1[[#This Row],[Monto solicitado aumentar]] -> 3000000 | F20: Se presupuestan recursos para la adquisición de una suscripción a una herramienta digital especializada la cual permitirá centralizar, automatizar y dar trazabilidad a todas las etapas del proceso de convocatorias, fortaleciendo la eficiencia operativa, reduciendo riesgos, garantizando la transparencia y optimizando la atención a los usuarios. Esta inversión es esencial para asegurar la sostenibilidad y calidad de la gestión de convocatorias en la PCII. No se incumple con las normas de ejecución presupuesto ordinario y extraordinario dela República para el ejercicio económico 2025 que le son aplicables a la Promotora Costarricense de Innovación e Investigaciones. | G20: DPII0101 | H20: PI.02.01.01 | I20: 1 | J20: 001 Transferencias corrientes Ley 9971 | K20: 01-02
A21: 1.04.05 | B21: Servicios informáticos | C21: 0 | D21: 400000 | E21: =+Tabla1[[#This Row],[Saldo actual disponible]]+Tabla1[[#This Row],[Monto solicitado aumentar]] -> 400000 | F21: Se presupuestan recursos para el soporte especializado para realizar replica y migración del servidor de controlador de dominio Active Directory, según lo solicitado por la Unidad de TICs. No se incumple con las normas de ejecución presupuesto ordinario y extraordinario dela República para el ejercicio económico 2025 que le son aplicables a la Promotora Costarricense de Innovación e Investigaciones. | G21: TIC0101 | H21: PI.01.01.02 | I21: 2 | J21: 001 Transferencias corrientes Ley 9971 | K21: 02-10
A22: 1.04.06 | B22: Servicios generales | C22: 48830.81 | D22: 201169.18 | E22: =+Tabla1[[#This Row],[Saldo actual disponible]]+Tabla1[[#This Row],[Monto solicitado aumentar]] -> 249999.99 | F22: Se incrementa la subpartida con el fin de abastecer los recursos necesarios para atender el pago del servicio de mantenimiento de zonas verdes programado para el mes de diciembre, por un monto de ₡201.169,18, así como el servicio de recarga de extintores por ₡250.000,00. Ambos servicios resultan esenciales para garantizar la seguridad, salubridad y adecuado funcionamiento de las instalaciones y del personal institucional. No se incumple con las normas de ejecución presupuesto ordinario y extraordinario dela República para el ejercicio económico 2025 que le son aplicables a la Promotora Costarricense de Innovación e Investigaciones. | G22: UA0101 | H22: PI.01.01.02 | I22: 2 | J22: 001 Transferencias corrientes Ley 9971 | K22: 02-06
A23: 1.04.99 | B23: Otros servicios de gestión y apoyo | C23: 24620.82 | D23: 126000 | E23: =+Tabla1[[#This Row],[Saldo actual disponible]]+Tabla1[[#This Row],[Monto solicitado aumentar]] -> 150620.82 | F23: Se incrementa la subpartida con el fin de garantizar la contratación del servicio de fumigación del edificio de la Promotora. Este servicio resulta indispensable para mantener en condiciones óptimas las instalaciones institucionales, prevenir plagas que puedan afectar la salud de los funcionarios y usuarios, así como resguardar la infraestructura y equipos de posibles daños ocasionados por dichas incidencias. La fumigación periódica contribuye a la salubridad, seguridad y continuidad de las operaciones de la institución, por lo que se hace necesario contar con los recursos suficientes para su debida contratación. No se incumple con las normas de ejecución presupuesto ordinario y extraordinario dela República para el ejercicio económico 2025 que le son aplicables a la Promotora Costarricense de Innovación e Investigaciones. | G23: UA0101 | H23: PI.01.01.02 | I23: 2 | J23: 001 Transferencias corrientes Ley 9971 | K23: 02-06
A24: 1.06.01 | B24: Seguros | C24: 0.01 | D24: 160000 | E24: =+Tabla1[[#This Row],[Saldo actual disponible]]+Tabla1[[#This Row],[Monto solicitado aumentar]] -> 160000.01 | F24: Se presupuestan recursos con el fin de realizar el pago del seguro a equipos electrónicos ubicados en el LINC: tablets, laptop, drones, impresoras 3D, equipo de robótica. No se incumple con las normas de ejecución presupuesto ordinario y extraordinario dela República para el ejercicio económico 2025 que le son aplicables a la Promotora Costarricense de Innovación e Investigación. | G24: TIC0101 | H24: PI.01.01.02 | I24: 2 | J24: 001 Transferencias corrientes Ley 9971 | K24: 02-10
A25: 1.07.01 | B25: Actividades de capacitación | C25: 0 | D25: 1000000 | E25: =+Tabla1[[#This Row],[Saldo actual disponible]]+Tabla1[[#This Row],[Monto solicitado aumentar]] -> 1000000 | F25: Se presupuestan recursos con el fin de contratar una capacitación a escuela certificada por Dirección General de Aviación Civil con el fin de capacitar a un funcionario en vuelo de drones y obtención de licencia requerida para: dar cursos sobre uso de drones en el LINC, asegurar el dron profesional ante INS. No se incumple con las normas de ejecución presupuesto ordinario y extraordinario dela República para el ejercicio económico 2025 que le son aplicables a la Promotora Costarricense de Innovación e Investigación. | G25: TIC0101 | H25: PI.01.01.02 | I25: 2 | J25: 001 Transferencias corrientes Ley 9971 | K25: 02-10
A26: 1.08.05 | B26: Mantenimiento y reparación de equipo de transporte | C26: 97262.49 | D26: 403000 | E26: =+Tabla1[[#This Row],[Saldo actual disponible]]+Tabla1[[#This Row],[Monto solicitado aumentar]] -> 500262.49 | F26: Se incrementa el saldo de la subpartida para atender el mantenimiento de los vehículos institucionales placas 238-26 y 238-27 los cuales presentan problemas eléctricos relacionados con fuga de corriente. Adicionalmente, la unidad 238-27 requiere la sustitución de una bota de eje dañada. El costo final dependerá del diagnóstico del problema eléctrico; no obstante, se estima un monto aproximado entre ₡400.000 y ₡500.000. No se incumple con las normas de ejecución presupuesto ordinario y extraordinario dela República para el ejercicio económico 2025 que le son aplicables a la Promotora Costarricense de Innovación e Investigación. | G26: UA0101 | H26: PI.01.01.02 | I26: 2 | J26: 001 Transferencias corrientes Ley 9971 | K26: 02-06
A27: 1.08.08 | B27: Mantenimiento y reparación de equipo de cómputo y sistemas | C27: 46414.75 | D27: =70000+2600000 -> 2670000 | E27: =+Tabla1[[#This Row],[Saldo actual disponible]]+Tabla1[[#This Row],[Monto solicitado aumentar]] -> 2716414.8 | F27: Se presupuestan recursos para atender el Mantenimiento preventivo de aires acondicionados del LINC, a diciembre 2025 por la suma de ¢70.000,00 y ¢2.600.000,00 para el Mantenimiento correctivo de UPS dedicada a servidores, que requiere reemplazo completo del banco de baterías de UPS de 20 KVA marca CDP modelo UPO33-20, incluye instalación de 17 baterías 12 volt 38 amperes. No se incumple con las normas de ejecución presupuesto ordinario y extraordinario dela República para el ejercicio económico 2025 que le son aplicables a la Promotora Costarricense de Innovación e Investigación. | G27: TIC0101 | H27: PI.01.01.02 | I27: 2 | J27: 001 Transferencias corrientes Ley 9971 | K27: 02-10
A28: 1.09.99 | B28: Otros impuestos | C28: 0 | D28: 69555 | E28: =+Tabla1[[#This Row],[Saldo actual disponible]]+Tabla1[[#This Row],[Monto solicitado aumentar]] -> 69555 | F28: Se presupuestan recursos para la compra de timbres del Colegio de Contadores Privados, esto para ser utilizados en los estados financieros de la PCII, según lo indicado en el último Webinar impartido por dicho Colegio. La falta de timbres en los EEFF puede ser causa de que los mismos no tenga valides, a menos que, se tenga una exoneración expresa en la ley de creación de la institución para poder omitir este requisito. Los recursos restantes se requieren para realizar dos empastes que se proyectan realizar entre setiembre y octubre del presente año. No se incumple con las normas de ejecución presupuesto ordinario y extraordinario dela República para el ejercicio económico 2025 que le son aplicables a la Promotora Costarricense de Innovación e Investigación. | G28: UF0101 | H28: PI.01.01.02 | I28: 2 | J28: 001 Transferencias corrientes Ley 9971 | K28: 02-07
A29: 1.09.99 | B29: Otros impuestos | C29: 0 | D29: 5000 | E29: =+Tabla1[[#This Row],[Saldo actual disponible]]+Tabla1[[#This Row],[Monto solicitado aumentar]] -> 5000 | F29: Se presupuestan recursos para la compra de timbres para personerías jurídicas requeridos por la Asesoría Jurídica para la emisión de diversos documentos y trámites como personerías jurídicas. No se incumple con las normas de ejecución presupuesto ordinario y extraordinario dela República para el ejercicio económico 2025 que le son aplicables a la Promotora Costarricense de Innovación e Investigación. | G29: AJ0101 | H29: PI.01.01.02 | I29: 2 | J29: 001 Transferencias corrientes Ley 9971 | K29: 02-05
A30: 2.03.04 | B30: Materiales y productos eléctricos, telefónicos y de cómputo | C30: 25000 | D30: =240000+50000 -> 290000 | E30: =+Tabla1[[#This Row],[Saldo actual disponible]]+Tabla1[[#This Row],[Monto solicitado aumentar]] -> 315000 | F30: Se presupuestan recursos para la compra de memorias USB para instaladores, transferencia de datos. Disco USB externo para respaldos requeridos para respaldos que se resguardan fuera de área de servidores, (https://cyberteamcr.com/producto/hd-externo-8tb-usb-3-0-seagate/) por la suma de ¢240.000,00 y ¢50.000,00 para la compra de audífonos para personal encargado de transcripción de actas, solicitados por secretaría de actas. No se incumple con las normas de ejecución presupuesto ordinario y extraordinario dela República para el ejercicio económico 2025 que le son aplicables a la Promotora Costarricense de Innovación e Investigación. | G30: TIC0101 | H30: PI.02.01.02 | I30: 2 | J30: 001 Transferencias corrientes Ley 9971 | K30: 02-10
A31: 2.99.03 | B31: Productos de papel, cartón e impresos | C31: 0 | D31: 350000 | E31: =+Tabla1[[#This Row],[Saldo actual disponible]]+Tabla1[[#This Row],[Monto solicitado aumentar]] -> 350000 | F31: Se presupuestan recursos para la adquisición de productos de papel, como papel bond, papel higiénico y toallas interfoliadas, resulta indispensable para garantizar las condiciones mínimas de higiene y salubridad en las instalaciones, así como para atender las labores administrativas. Estos insumos contribuyen al cumplimiento de normativas sanitarias y de salud ocupacional, favoreciendo un entorno de trabajo ordenado, limpio y seguro. No se incumple con las normas de ejecución presupuesto ordinario y extraordinario dela República para el ejercicio económico 2025 que le son aplicables a la Promotora Costarricense de Innovación e Investigación. | G31: UA0101 | H31: PI.01.01.02 | I31: 2 | J31: 001 Transferencias corrientes Ley 9971 | K31: 02-06
A32: 2.99.05 | B32: Útiles y materiales de limpieza | C32: 0 | D32: 100000 | E32: =+Tabla1[[#This Row],[Saldo actual disponible]]+Tabla1[[#This Row],[Monto solicitado aumentar]] -> 100000 | F32: Se presupuestan recursos para la compra de suministro de productos de limpieza, tales como desinfectantes, jabones y cloro, es fundamental para mantener condiciones óptimas de aseo en todas las áreas de la institución. La disponibilidad constante de estos insumos asegura el cumplimiento de protocolos de limpieza y sanitización, protegiendo la salud de funcionarios y visitantes. No se incumple con las normas de ejecución presupuesto ordinario y extraordinario dela República para el ejercicio económico 2025 que le son aplicables a la Promotora Costarricense de Innovación e Investigación. | G32: UA0101 | H32: PI.01.01.02 | I32: 2 | J32: 001 Transferencias corrientes Ley 9971 | K32: 02-06
A33: 2.99.99 | B33: Otros útiles, materiales y suministros diversos | C33: 0 | D33: 185298.17 | E33: =+Tabla1[[#This Row],[Saldo actual disponible]]+Tabla1[[#This Row],[Monto solicitado aumentar]] -> 185298.17 | F33: Se presupuestan recursos para la compra de placas distintivas para el plaqueo de activos, que fortalecen el control patrimonial institucional. Estas placas permiten identificar cada activo de manera única, facilitando su registro, localización y seguimiento dentro del inventario, contribuyendo a una gestión ordenada y transparente. No se incumple con las normas de ejecución presupuesto ordinario y extraordinario dela República para el ejercicio económico 2025 que le son aplicables a la Promotora Costarricense de Innovación e Investigación. | G33: UA0101 | H33: PI.01.01.02 | I33: 2 | J33: 001 Transferencias corrientes Ley 9971 | K33: 02-06
A34: 5.99.03 | B34: Bienes intangibles | C34: 7506184.7 | D34: =1761655+343750+2400000+2432915.86+260000+1363823.7-318003.25+288197.85 -> 8532339.2 | E34: =+Tabla1[[#This Row],[Saldo actual disponible]]+Tabla1[[#This Row],[Monto solicitado aumentar]] -> 16038524 | F34: Se incrementa el presupuesto de la subpartida requerido para: ¢1.761.655,00 para completar los recursos necesario para realizar la contratación anual de los licenciamientos relacionados con Microsoft 365: licencias E1, E3, E5 y Teams, que asciende a ¢5.523.340,00. ¢343.750,00 Licencias de antivirus informático PANDA ADAPTIVE DEFENSE 360 12 MESES, para 25 equipos, precio según contrato procedimiento 2023LD-000010-0019600001. ¢2.400.000,00 Licencia Windows Server 2022 16 core. Licenciamiento perpetuo, requerido para máquina virtual de sitio Web, para Sistema de Gestión Documental, para actualizar Sistema de Gestión de Solicitudes. ¢2.432.915,86 Licenciamiento para dos núcleos de SQL Server 2022. Licenciamiento requerido en los procesos de migración de bases de datos a plataformas actualizadas. Precios según https://www.microsoft.com/es-mx/sql-server/sql-server-2022-pricing Beneficio: Para sistema de Gestión Documental. ¢260.000,00 3 Licencias perpetuas CAL, para servidores. Windows Server 2022 Remote Desktop Services - User CAL ¢1.363.823,70 Recursos requeridos para renovar licencias de ADOBE, la cual vence en noviembre 2025. No se incumple con las normas de ejecución presupuesto ordinario y extraordinario dela República para el ejercicio económico 2025 que le son aplicables a la Promotora Costarricense de Innovación e Investigación. | G34: TIC0101 | H34: PI.02.01.02 | I34: 2 | J34: 001 Transferencias corrientes Ley 9971 | K34: 02-10
A35: 6.03.99 | B35: Otras prestaciones | C35: 172082.05 | D35: 2000000 | E35: =+Tabla1[[#This Row],[Saldo actual disponible]]+Tabla1[[#This Row],[Monto solicitado aumentar]] -> 2172082 | F35: El incremento se realiza con el propósito de aumentar el disponible en esta subpartida ya que después de que la Unidad Administrativa realizó una proyección para terminar el año 2025, se observa que los recursos disponible son insuficientes para cubrir eventuales pagos que se deban realizar por concepto de subsidios por incapacidades de la CCSS y del INS. No se incumple con las normas de ejecución Presupuesto ordinario y extraordinario de la República para el ejercicio económico 2025 que le son aplicables a la Promotora Costarricense de Innovación e Investigación. | G35: UA0101 | H35: PI.01.01.02 | I35: 2 | J35: 001 Transferencias corrientes Ley 9971 | K35: 02-06
A36: Total | D36: =SUBTOTAL(109,Tabla1[Monto solicitado aumentar]) -> 24200765
A38: Vistos buenos
A39: ____________________ | C39: ____________________ | E39: ____________________
A40: VB por: Zúrika Gómez R. | C40: VB por: Víctor Rojas M. | E40: VB por: Verónica Cruz V.
A41: Jefe Unidad Administrativa | C41: Jefe TICs | E41: Profesional Asesora legal
A43: ____________________ | C43: ____________________
...

Sheet Tablas Rebajos OBG
A1: PROMOTORA COSTARRICENSE DE INNOVACIÓN E INVESTIGACIÓN
A2: MODIFICACIÓN PRESUPUESTARIA 05-2025
A3: REBAJOS AL PRESUPUESTO DE EGRESOS POR PROGRAMA
A4: SEGÚN CLASIFICADOR POR OBJETO DEL GASTO DEL SECTOR PÚBLICO
A6: CODIGO | B6: PARTIDAS Y SUBPARTIDAS | C6: TOTAL | D6: PROGRAMA 1: FINANCIAMIENTO DE PROGRAMAS Y PROYECTOS | E6: PROGRAMA 2: GESTIÓN ADMINISTRATIVA | F6: PROGRAMA 3: FONDO DE INCENTIVOS
A7: 0 | B7: REMUNERACIONES | C7: =SUM(D7:E7) -> 22293620 | D7: =D9+D14+D18+D26+D33 -> 8281607.1 | E7: =E9+E14+E18+E26+E33 -> 14012013 | F7: =F9+F14+F18+F26+F33 -> 0
A9: 0.01 | B9: REMUNERACIONES BASICAS | C9: =+D9+E9 -> 4949387.1 | D9: =SUM(D11:D12) -> 729951.64 | E9: =SUM(E11:E12) -> 4219435.4 | F9: =SUM(F11:F12) -> 0
A11: 0.01.01 | B11: Sueldos para cargos fijos | C11: =+D11+E11 -> 4949387.1 | D11: =IFERROR(IF($H11=1,VLOOKUP($A11,'Detalle Rebajos'!$A:$K,4,FALSE),0),0) -> 729951.64 | E11: =+'Detalle Rebajos'!D19 -> 4219435.4 | F11: 0 | H11: 1
A12: 0.01.05 | B12: Suplencias | C12: =SUM(D12:E12) -> 0 | D12: =IFERROR(IF($H12=1,VLOOKUP($A12,'Detalle Rebajos'!$A:$K,4,FALSE),0),0) -> 0 | E12: =IFERROR(IF($H12=2,VLOOKUP($A12,'Detalle Rebajos'!$A:$K,4,FALSE),0),0) -> 0 | H12: =IFERROR(VLOOKUP(A12,'Detalle Rebajos'!A:K,9,FALSE),0) -> 0
H13: =IFERROR(VLOOKUP(A13,'Detalle Rebajos'!A:K,9,FALSE),0) -> 0
A14: 0.02 | B14: REMUNERACION EVENTUALES | C14: =SUM(D14:E14) -> 0 | D14: =IFERROR(IF($H14=1,VLOOKUP($A14,'Detalle Rebajos'!$A:$K,4,FALSE),0),0) -> 0 | E14: =IFERROR(IF($H14=2,VLOOKUP($A14,'Detalle Rebajos'!$A:$K,4,FALSE),0),0) -> 0 | H14: =IFERROR(VLOOKUP(A14,'Detalle Rebajos'!A:K,9,FALSE),0) -> 0
H15: =IFERROR(VLOOKUP(A15,'Detalle Rebajos'!A:K,9,FALSE),0) -> 0
A16: 0.02.02 | B16: Recargo de funciones | C16: =SUM(D16:E16) -> 0 | D16: =IFERROR(IF($H16=1,VLOOKUP($A16,'Detalle Rebajos'!$A:$K,4,FALSE),0),0) -> 0 | E16: =IFERROR(IF($H16=2,VLOOKUP($A16,'Detalle Rebajos'!$A:$K,4,FALSE),0),0) -> 0 | H16: =IFERROR(VLOOKUP(A16,'Detalle Rebajos'!A:K,9,FALSE),0) -> 0
H17: =IFERROR(VLOOKUP(A17,'Detalle Rebajos'!A:K,9,FALSE),0) -> 0
A18: 0.03 | B18: INCENTIVOS SALARIALES | C18: =SUM(D18:E18) -> 915922.74 | D18: =SUM(D20:D24) -> 127412.81 | E18: =SUM(E20:E24) -> 788509.93 | H18: =IFERROR(VLOOKUP(A18,'Detalle Rebajos'!A:K,9,FALSE),0) -> 0
H19: =IFERROR(VLOOKUP(A19,'Detalle Rebajos'!A:K,9,FALSE),0) -> 0
A20: 0.03.01 | B20: Retribución por años servidos | C20: =SUM(D20:E20) -> 99647.22 | D20: =IFERROR(IF($H20=1,VLOOKUP($A20,'Detalle Rebajos'!$A:$K,4,FALSE),0),0) -> 99647.22 | H20: 1
A21: 0.03.02 | B21: Restricción al ejercicio liberal de la profesión | C21: =SUM(D21:E21) -> 24169.72 | D21: =IFERROR(IF($H21=1,VLOOKUP($A21,'Detalle Rebajos'!$A:$K,4,FALSE),0),0) -> 24169.72 | E21: =IFERROR(IF($H21=2,VLOOKUP($A21,'Detalle Rebajos'!$A:$K,4,FALSE),0),0) -> 0 | H21: 1
A22: 0.03.03 | B22: Decimotercer mes | C22: =SUM(D22:E22) -> 619986.23 | D22: =IFERROR(IF($H22=1,VLOOKUP($A22,'Detalle Rebajos'!$A:$K,4,FALSE),0),0) -> 0 | E22: =IFERROR(IF($H22=2,VLOOKUP($A22,'Detalle Rebajos'!$A:$K,4,FALSE),0),0) -> 619986.23 | H22: 2
A23: 0.03.04 | B23: Salario escolar | C23: =SUM(D23:E23) -> 0 | D23: =IFERROR(IF($H23=1,VLOOKUP($A23,'Detalle Rebajos'!$A:$K,4,FALSE),0),0) -> 0 | H23: 1
A24: 0.03.99 | B24: Otros incentivos salariales | C24: =SUM(D24:E24) -> 172119.57 | D24: =IFERROR(IF($H24=1,VLOOKUP($A24,'Detalle Rebajos'!$A:$K,4,FALSE),0),0) -> 3595.87 | E24: =+'Detalle Rebajos'!D21 -> 168523.7 | H24: 1
H25: =IFERROR(VLOOKUP(A25,'Detalle Rebajos'!A:K,9,FALSE),0) -> 0
A26: 0.04 | B26: CONTRIBUCIONES PATRONALES AL DESARROLLO Y LA SEGURIDAD SOCIAL | C26: =+D26+E26 -> 8254648.9 | D26: =SUM(D28:D31) -> 3563571.6 | E26: =SUM(E28:E31) -> 4691077.3 | F26: =SUM(F28:F31) -> 0 | G26: =SUM(G28:G31) -> 0 | H26: =SUM(H28:H31) -> 4
H27: =IFERROR(VLOOKUP(A27,'Detalle Rebajos'!A:K,9,FALSE),0) -> 0
A28: 0.04.01 | B28: Contribución Patronal al Seguro de Salud de la Caja Costarricense del Seguro Social | C28: =+D28+E28 -> 4698801 | D28: =IFERROR(IF($H28=1,VLOOKUP($A28,'Detalle Rebajos'!$A:$K,4,FALSE),0),0) -> 2028494.8 | E28: =+'Detalle Rebajos'!D22 -> 2670306.2 | H28: 1
A29: 0.04.03 | B29: Contribución Patronal al Instituto Nacional de Aprendizaje | C29: =+D29+E29 -> 761967.45 | D29: =IFERROR(IF($H29=1,VLOOKUP($A29,'Detalle Rebajos'!$A:$K,4,FALSE),0),0) -> 328945.01 | E29: =+'Detalle Rebajos'!D23 -> 433022.44 | H29: 1
A30: 0.04.04 | B30: Contribución Patronal al Fondo de Desarrollo Social y Asignaciones Familiares | C30: =+D30+E30 -> 2539891.3 | D30: =IFERROR(IF($H30=1,VLOOKUP($A30,'Detalle Rebajos'!$A:$K,4,FALSE),0),0) -> 1096483.5 | E30: =+'Detalle Rebajos'!D24 -> 1443407.8 | H30: 1
A31: 0.04.05 | B31: Contribución Patronal al Bco.Popular y Desarrollo Comunal | C31: =+D31+E31 -> 253989.13 | D31: =IFERROR(IF($H31=1,VLOOKUP($A31,'Detalle Rebajos'!$A:$K,4,FALSE),0),0) -> 109648.28 | E31: =+'Detalle Rebajos'!D25 -> 144340.85 | H31: 1
H32: =IFERROR(VLOOKUP(A32,'Detalle Rebajos'!A:K,9,FALSE),0) -> 0
A33: 0.05 | B33: CONTRIBUCIONES PATRONALES A FONDOS DE PENSIONES Y OTROS FONDOS DE CAPITALIZACION | C33: =+D33+E33 -> 8173661.7 | D33: =SUM(D35:D38) -> 3860671 | E33: =SUM(E35:E38) -> 4312990.7 | H33: =IFERROR(VLOOKUP(A33,'Detalle Rebajos'!A:K,9,FALSE),0) -> 0
H34: =IFERROR(VLOOKUP(A34,'Detalle Rebajos'!A:K,9,FALSE),0) -> 0
A35: 0.05.01 | B35: Contribución Patronal al Seguro de Pensiones de la Caja Costarricense de Seguro Social | C35: =+D35+E35 -> 2753243.1 | D35: =+'Detalle Rebajos'!D15 -> 1188588.4 | E35: =+'Detalle Rebajos'!D26 -> 1564654.6 | H35: 1
A36: 0.05.02 | B36: Aporte Patronal Régimen Obligatorio Pensiones Complementarias | C36: =+D36+E36 -> 1523934.6 | D36: =IFERROR(IF($H36=1,VLOOKUP($A36,'Detalle Rebajos'!$A:$K,4,FALSE),0),0) -> 657890.03 | E36: =+'Detalle Rebajos'!D27 -> 866044.55 | H36: 1
A37: 0.05.03 | B37: Aporte Patronal al Fondo de Capitalización Laboral | C37: =+D37+E37 -> 761967.45 | D37: =IFERROR(IF($H37=1,VLOOKUP($A37,'Detalle Rebajos'!$A:$K,4,FALSE),0),0) -> 328945.01 | E37: =+'Detalle Rebajos'!D28 -> 433022.44 | H37: 1
A38: 0.05.05 | B38: Contribución Patronal a fondos administrados por entes privados | C38: =+D38+E38 -> 3134516.6 | D38: =IFERROR(IF($H38=1,VLOOKUP($A38,'Detalle Rebajos'!$A:$K,4,FALSE),0),0) -> 1685247.5 | E38: =+'Detalle Rebajos'!D29 -> 1449269.1 | H38: 1
A41: 1 | B41: SERVICIOS | C41: =+D41+E41 -> 879053.26 | D41: =+D43+D47+D55+D63+D73+D80+D85+D90+D99+D103 -> 0 | E41: =+E43+E47+E55+E63+E73+E80+E85+E90+E99+E103 -> 879053.26 | F41: =+F43+F47+F55+F63+F73+F80+F85+F90+F99+F103 -> 0
A43: 1.01 | B43: ALQUILERES | C43: =SUM(D43:E43) -> 0 | D43: =+D45 -> 0 | E43: =+E45 -> 0
A45: 1.01.99 | B45: Otros alquileres | C45: =+D45+E45 -> 0 | D45: 0 | F45: 0
A47: 1.02 | B47: SERVICIOS BASICOS | C47: =+D47+E47 -> 0 | D47: =SUM(D49:D53) -> 0 | E47: =SUM(E49:E53) -> 0 | F47: =SUM(F49:F53) -> 0
A49: 1.02.01 | B49: Servicio de agua y alcantarillado | C49: =SUM(D49:E49) -> 0 | D49: =IFERROR(IF($H49=1,VLOOKUP($A49,'Detalle Rebajos'!$A:$K,4,FALSE),0),0) -> 0 | E49: =IFERROR(IF($H49=2,VLOOKUP($A49,'Detalle Rebajos'!$A:$K,4,FALSE),0),0) -> 0 | F49: 0 | H49: =IFERROR(VLOOKUP(A49,'Detalle Rebajos'!A:K,9,FALSE),0) -> 0
...

Sheet Tablas Aumentos OBG
A1: PROMOTORA COSTARRICENSE DE INNOVACIÓN E INVESTIGACIÓN
A2: MODIFICACIÓN PRESUPUESTARIA 05-2025
A3: AUMENTOS AL PRESUPUESTO DE EGRESOS POR PROGRAMA
A4: SEGÚN CLASIFICADOR POR OBJETO DEL GASTO DEL SECTOR PÚBLICO
A6: CODIGO | B6: PARTIDAS Y SUBPARTIDAS | C6: TOTAL | D6: PROGRAMA 1: FINANCIAMIENTO DE PROGRAMAS Y PROYECTOS | E6: PROGRAMA 2: GESTIÓN ADMINISTRATIVA
A8: 0 | B8: REMUNERACIONES | C8: =SUM(D8:E8) -> 1071600 | D8: =D10+D15+D21+D29+D37 -> 292000 | E8: =E10+E15+E21+E29+E37 -> 779600
A10: 0.01 | B10: REMUNERACIONES BASICAS | C10: =+D10+E10 -> 0 | D10: =SUM(D12:D13) -> 0 | E10: =SUM(E12:E13) -> 0
A12: 0.01.01 | B12: Sueldos para cargos fijos | C12: =+D12+E12 -> 0 | D12: =IFERROR(IF($G12=1,VLOOKUP($A12,'Detalle de Aumentos'!$A:$K,4,FALSE),0),0) -> 0 | E12: =IFERROR(IF($G12=2,VLOOKUP($A12,'Detalle de Aumentos'!$A:$K,4,FALSE),0),0) -> 0 | G12: 2
A13: 0.01.05 | B13: Suplencias | C13: =SUM(D13:E13) -> 0 | D13: =IFERROR(IF($G13=1,VLOOKUP($A13,'Detalle de Aumentos'!$A:$K,4,FALSE),0),0) -> 0 | E13: =IFERROR(IF($G13=2,VLOOKUP($A13,'Detalle de Aumentos'!$A:$K,4,FALSE),0),0) -> 0 | G13: =IFERROR(VLOOKUP(A13,'Detalle de Aumentos'!A:K,9,FALSE),0) -> 0
A15: 0.02 | B15: REMUNERACION EVENTUALES | C15: =SUM(C17:C19) -> 29000 | D15: =SUM(D17:D19) -> 0 | E15: =SUM(E17:E19) -> 29000
A17: 0.02.01 | B17: Tiempo extraordinario | C17: =SUM(D17:E17) -> 0 | D17: =IFERROR(IF($G17=1,VLOOKUP($A17,'Detalle de Aumentos'!$A:$K,4,FALSE),0),0) -> 0 | G17: =IFERROR(VLOOKUP(A17,'Detalle de Aumentos'!A:K,9,FALSE),0) -> 0
A18: 0.02.02 | B18: Recargo de funciones | C18: =SUM(D18:E18) -> 29000 | D18: =IFERROR(IF($G18=1,VLOOKUP($A18,'Detalle de Aumentos'!$A:$K,4,FALSE),0),0) -> 0 | E18: =IFERROR(IF($G18=2,VLOOKUP($A18,'Detalle de Aumentos'!$A:$K,4,FALSE),0),0) -> 29000 | G18: =IFERROR(VLOOKUP(A18,'Detalle de Aumentos'!A:K,9,FALSE),0) -> 2
A19: 0.02.05 | B19: Dietas | C19: =SUM(D19:E19) -> 0 | D19: =IFERROR(IF($G19=1,VLOOKUP($A19,'Detalle de Aumentos'!$A:$K,4,FALSE),0),0) -> 0 | E19: =IFERROR(IF($G19=2,VLOOKUP($A19,'Detalle de Aumentos'!$A:$K,4,FALSE),0),0) -> 0 | G19: =IFERROR(VLOOKUP(A19,'Detalle de Aumentos'!A:K,9,FALSE),0) -> 0
A21: 0.03 | B21: INCENTIVOS SALARIALES | C21: =SUM(D21:E21) -> 1042600 | D21: =SUM(D23:D27) -> 292000 | E21: =SUM(E23:E27) -> 750600
A23: 0.03.01 | B23: Retribución por años servidos | C23: =SUM(D23:E23) -> 113600 | D23: =IFERROR(IF($G23=1,VLOOKUP($A23,'Detalle de Aumentos'!$A:$K,4,FALSE),0),0) -> 0 | E23: =IFERROR(IF($G23=2,VLOOKUP($A23,'Detalle de Aumentos'!$A:$K,4,FALSE),0),0) -> 113600 | G23: =IFERROR(VLOOKUP(A23,'Detalle de Aumentos'!A:K,9,FALSE),0) -> 2
A24: 0.03.02 | B24: Restricción al ejercicio liberal de la profesión | C24: =SUM(D24:E24) -> 470000 | D24: =IFERROR(IF($G24=1,VLOOKUP($A24,'Detalle de Aumentos'!$A:$K,4,FALSE),0),0) -> 0 | E24: =IFERROR(IF($G24=2,VLOOKUP($A24,'Detalle de Aumentos'!$A:$K,4,FALSE),0),0) -> 470000 | G24: =IFERROR(VLOOKUP(A24,'Detalle de Aumentos'!A:K,9,FALSE),0) -> 2
A25: 0.03.03 | B25: Decimotercer mes | C25: =SUM(D25:E25) -> 292000 | D25: =IFERROR(IF($G25=1,VLOOKUP($A25,'Detalle de Aumentos'!$A:$K,4,FALSE),0),0) -> 292000 | E25: =IFERROR(IF($G25=2,VLOOKUP($A25,'Detalle de Aumentos'!$A:$K,4,FALSE),0),0) -> 0 | G25: =IFERROR(VLOOKUP(A25,'Detalle de Aumentos'!A:K,9,FALSE),0) -> 1
A26: 0.03.04 | B26: Salario escolar | C26: =SUM(D26:E26) -> 167000 | D26: =IFERROR(IF($G26=1,VLOOKUP($A26,'Detalle de Aumentos'!$A:$K,4,FALSE),0),0) -> 0 | E26: =IFERROR(IF($G26=2,VLOOKUP($A26,'Detalle de Aumentos'!$A:$K,4,FALSE),0),0) -> 167000 | G26: =IFERROR(VLOOKUP(A26,'Detalle de Aumentos'!A:K,9,FALSE),0) -> 2
A27: 0.03.99 | B27: Otros incentivos salariales | C27: =SUM(D27:E27) -> 0 | D27: =IFERROR(IF($G27=1,VLOOKUP($A27,'Detalle de Aumentos'!$A:$K,4,FALSE),0),0) -> 0 | E27: =IFERROR(IF($G27=2,VLOOKUP($A27,'Detalle de Aumentos'!$A:$K,4,FALSE),0),0) -> 0 | G27: =IFERROR(VLOOKUP(A27,'Detalle de Aumentos'!A:K,9,FALSE),0) -> 0
A29: 0.04 | B29: CONTRIBUCIONES PATRONALES AL DESARROLLO Y LA SEGURIDAD SOCIAL | C29: =+D29+E29 -> 0 | D29: =SUM(D31:D34) -> 0 | E29: =SUM(E31:E34) -> 0
A31: 0.04.01 | B31: Contribución Patronal al Seguro de Salud de la Caja Costarricense del Seguro Social | C31: =+D31+E31 -> 0 | D31: =IFERROR(IF($G31=1,VLOOKUP($A31,'Detalle de Aumentos'!$A:$K,4,FALSE),0),0) -> 0 | E31: =IFERROR(IF($G31=2,VLOOKUP($A31,'Detalle de Aumentos'!$A:$K,4,FALSE),0),0) -> 0 | G31: 1
A32: 0.04.03 | B32: Contribución Patronal al Instituto Nacional de Aprendizaje | C32: =+D32+E32 -> 0 | D32: =IFERROR(IF($G32=1,VLOOKUP($A32,'Detalle de Aumentos'!$A:$K,4,FALSE),0),0) -> 0 | E32: =IFERROR(IF($G32=2,VLOOKUP($A32,'Detalle de Aumentos'!$A:$K,4,FALSE),0),0) -> 0 | G32: 1
A33: 0.04.04 | B33: Contribución Patronal al Fondo de Desarrollo Social y Asignaciones Familiares | C33: =+D33+E33 -> 0 | D33: =IFERROR(IF($G33=1,VLOOKUP($A33,'Detalle de Aumentos'!$A:$K,4,FALSE),0),0) -> 0 | E33: =IFERROR(IF($G33=2,VLOOKUP($A33,'Detalle de Aumentos'!$A:$K,4,FALSE),0),0) -> 0 | G33: 1
A34: 0.04.05 | B34: Contribución Patronal al Bco.Popular y Desarrollo Comunal | C34: =+D34+E34 -> 0 | D34: =IFERROR(IF($G34=1,VLOOKUP($A34,'Detalle de Aumentos'!$A:$K,4,FALSE),0),0) -> 0 | E34: =IFERROR(IF($G34=2,VLOOKUP($A34,'Detalle de Aumentos'!$A:$K,4,FALSE),0),0) -> 0 | G34: 1
A37: 0.05 | B37: CONTRIBUCIONES PATRONALES A FONDOS DE PENSIONES Y OTROS FONDOS DE CAPITALIZACION | C37: =+D37+E37 -> 0 | D37: =SUM(D39:D42) -> 0 | E37: =SUM(E39:E42) -> 0
A39: 0.05.01 | B39: Contribución Patronal al Seguro de Pensiones de la Caja Costarricense de Seguro Social | C39: =+D39+E39 -> 0 | D39: =IFERROR(IF($G39=2,VLOOKUP($A39,'Detalle de Aumentos'!$A:$K,4,FALSE),0),0) -> 0 | E39: =IFERROR(IF($G39=2,VLOOKUP($A39,'Detalle de Aumentos'!$A:$K,4,FALSE),0),0) -> 0 | G39: =IFERROR(VLOOKUP(A39,'Detalle de Aumentos'!A:K,9,FALSE),0) -> 0
A40: 0.05.02 | B40: Aporte Patronal Régimen Obligatorio Pensiones Complementarias | C40: =+D40+E40 -> 0 | D40: =IFERROR(IF($G40=2,VLOOKUP($A40,'Detalle de Aumentos'!$A:$K,4,FALSE),0),0) -> 0 | E40: =IFERROR(IF($G40=2,VLOOKUP($A40,'Detalle de Aumentos'!$A:$K,4,FALSE),0),0) -> 0 | G40: =IFERROR(VLOOKUP(A40,'Detalle de Aumentos'!A:K,9,FALSE),0) -> 0
A41: 0.05.03 | B41: Aporte Patronal al Fondo de Capitalización Laboral | C41: =+D41+E41 -> 0 | D41: =IFERROR(IF($G41=2,VLOOKUP($A41,'Detalle de Aumentos'!$A:$K,4,FALSE),0),0) -> 0 | E41: =IFERROR(IF($G41=2,VLOOKUP($A41,'Detalle de Aumentos'!$A:$K,4,FALSE),0),0) -> 0 | G41: =IFERROR(VLOOKUP(A41,'Detalle de Aumentos'!A:K,9,FALSE),0) -> 0
A42: 0.05.05 | B42: Contribución Patronal a fondos administrados por entes privados | C42: =+D42+E42 -> 0 | D42: =IFERROR(IF($G42=1,VLOOKUP($A42,'Detalle de Aumentos'!$A:$K,4,FALSE),0),0) -> 0 | E42: =IFERROR(IF($G42=2,VLOOKUP($A42,'Detalle de Aumentos'!$A:$K,4,FALSE),0),0) -> 0 | G42: =IFERROR(VLOOKUP(A42,'Detalle de Aumentos'!A:K,9,FALSE),0) -> 0
A45: 1 | B45: SERVICIOS | C45: =+D45+E45 -> 8671527.4 | D45: =+D47+D51+D59+D67+D77+D84+D88+D94+D103+D107 -> 230000 | E45: =+E47+E51+E59+E67+E77+E84+E88+E94+E103+E107 -> 8441527.4
A47: 1.01 | B47: ALQUILERES | C47: =SUM(D47:E47) -> 0 | D47: =+D49 -> 0 | E47: =+E49 -> 0
A49: 1.01.99 | B49: Otros alquileres | C49: =+D49+E49 -> 0 | D49: =IFERROR(IF($G49=1,VLOOKUP($A49,'Detalle de Aumentos'!$A:$K,4,FALSE),0),0) -> 0 | E49: =IFERROR(IF($G49=2,VLOOKUP($A49,'Detalle de Aumentos'!$A:$K,4,FALSE),0),0) -> 0 | G49: =IFERROR(VLOOKUP(A49,'Detalle de Aumentos'!A:K,9,FALSE),0) -> 0
A51: 1.02 | B51: SERVICIOS BASICOS | C51: =+D51+E51 -> 2851973.8 | D51: =SUM(D53:D57) -> 0 | E51: =SUM(E53:E57) -> 2851973.8
A53: 1.02.01 | B53: Servicio de agua y alcantarillado | C53: =SUM(D53:E53) -> 0 | D53: =IFERROR(IF($G53=1,VLOOKUP($A53,'Detalle de Aumentos'!$A:$K,4,FALSE),0),0) -> 0 | E53: =IFERROR(IF($G53=2,VLOOKUP($A53,'Detalle de Aumentos'!$A:$K,4,FALSE),0),0) -> 0 | G53: =IFERROR(VLOOKUP(A53,'Detalle de Aumentos'!A:K,9,FALSE),0) -> 0
A54: 1.02.02 | B54: Servicio de energía eléctrica | C54: =SUM(D54:E54) -> 520000 | D54: =IFERROR(IF($G54=1,VLOOKUP($A54,'Detalle de Aumentos'!$A:$K,4,FALSE),0),0) -> 0 | E54: =IFERROR(IF($G54=2,VLOOKUP($A54,'Detalle de Aumentos'!$A:$K,4,FALSE),0),0) -> 520000 | G54: =IFERROR(VLOOKUP(A54,'Detalle de Aumentos'!A:K,9,FALSE),0) -> 2
A55: 1.02.03 | B55: Servicio de correo | C55: =SUM(D55:E55) -> 0 | D55: =IFERROR(IF($G55=1,VLOOKUP($A55,'Detalle de Aumentos'!$A:$K,4,FALSE),0),0) -> 0 | E55: =IFERROR(IF($G55=2,VLOOKUP($A55,'Detalle de Aumentos'!$A:$K,4,FALSE),0),0) -> 0 | G55: =IFERROR(VLOOKUP(A55,'Detalle de Aumentos'!A:K,9,FALSE),0) -> 0
A56: 1.02.04 | B56: Servicio de telecomunicaciones | C56: =SUM(D56:E56) -> 2331973.8 | D56: =IFERROR(IF($G56=1,VLOOKUP($A56,'Detalle de Aumentos'!$A:$K,4,FALSE),0),0) -> 0 | E56: =+'Detalle de Aumentos'!D13+'Detalle de Aumentos'!D14 -> 2331973.8 | G56: 2
